BEGIN:VCALENDAR
VERSION:2.0
PRODID:-//Chicago Headline Club - ECPv6.6.4.2//NONSGML v1.0//EN
CALSCALE:GREGORIAN
METHOD:PUBLISH
X-ORIGINAL-URL:https://headlineclub.org
X-WR-CALDESC:Events for Chicago Headline Club
REFRESH-INTERVAL;VALUE=DURATION:PT1H
X-Robots-Tag:noindex
X-PUBLISHED-TTL:PT1H
BEGIN:VTIMEZONE
TZID:America/Chicago
BEGIN:DAYLIGHT
TZOFFSETFROM:-0600
TZOFFSETTO:-0500
TZNAME:CDT
DTSTART:20250309T080000
END:DAYLIGHT
BEGIN:STANDARD
TZOFFSETFROM:-0500
TZOFFSETTO:-0600
TZNAME:CST
DTSTART:20251102T070000
END:STANDARD
END:VTIMEZONE
BEGIN:VEVENT
DTSTART;TZID=America/Chicago:20251010T110000
DTEND;TZID=America/Chicago:20251010T150000
DTSTAMP:20260421T075642
CREATED:20251006T003145Z
LAST-MODIFIED:20251006T003255Z
UID:96600-1760094000-1760108400@headlineclub.org
SUMMARY:2025 Chicago Headline Club Media Career Fair
DESCRIPTION:Whether you’re job hunting\, building your network\, or just figuring out your next steps\, this event is for you. Join the Chicago Headline Club for a day of career development\, peer connection\, and newsroom access. (And yes\, there will be light bites and beverages!) RSVP for today for the Friday\, October 10 event. \nYou’ll get to: \n\nConnect directly with newsroom leaders\nStrengthen your job search materials\nGet a new headshot (first come\, first served)\nJoin guided networking conversations with working journalists\n\nSpace is limited so RSVP to save your spot\, sign up to join the networking session. Headshots and resume and cover letter review will be on a first come\, first serve basis. \nMore info here
URL:https://headlineclub.org/events/2025-chicago-headline-club-media-career-fair/
LOCATION:Impact House\, 200 W Madison St\, Chicago\, IL\, 60606\, United States
CATEGORIES:Career Fair
ORGANIZER;CN="Chicago Headline Club":MAILTO:programming@headlineclub.org
END:VEVENT
END:VCALENDAR